BEGIN:VCALENDAR
VERSION:2.0
PRODID:-//hacksw/handcal//NONSGML v1.0//EN
BEGIN:VEVENT
SUMMARY:RB : Gardanne SUD
UID:389239b7-c225-419b-9a80-c2de689e2dba
DTSTART:20260428T080000Z
DTEND:20260428T130000Z
LOCATION:Localisation   
CATEGORIES:Sportif
STATUS:
DESCRIPTION:<p>Rando Balade ombragee dans les colines au Sud de
 Gardanne et le long du canal avec Pierrot (sebilo.p@wanadoo.fr /
 06.52.77.20.75)</p>
 
 <p>Chemins faciles et rythme modere (9,5 km. et
 +140 m)</p>
 
 <p>RV1 10 heures : parking du Val Saint
 Andre</p>
 
 <p>RV2 10h30 : Quartier Des Aires au SusEst de Gardanne :
 Aix, Gardanne, Peripheique Sud, Juste avant le lycee Helene Foucade,
 prendre a droite avenue dea Aires. Suivre la route jusqu'au canal, se
 garer la. </p>
 
 <p>Covoiturage = 2 Eur.</p>
URL;VALUE=URI:https://www.aeprandoaix.com/evenements/2026/04/28/rb-gardanne-sud-2444208
END:VEVENT
END:VCALENDAR
