BEGIN:VCALENDAR
VERSION:2.0
PRODID:-//hacksw/handcal//NONSGML v1.0//EN
BEGIN:VEVENT
SUMMARY:Les grottes de Berigoule P2T1
UID:59cc3376-d3bd-41cf-a4b5-b2e73b8cfa00
DTSTART:20260425T220000Z
DTEND:20260426T220000Z
LOCATION:Localisation   
CATEGORIES:Sportif
STATUS:
DESCRIPTION:<p><strong><u>Animateur :</u></strong> Chritine
 Gillo</p>
 
 <p><u><strong>Telephone </strong></u>: 06 88 23 91
 80</p>
 
 <p><u><strong>Descriptif de la randonnee
 :</strong></u></p>
 
 <p>Randonnee au depart du parking situe le long
 du mur du Parc de la Garenne a Murs. Le parcours propose passera
 d'aord devant le chateau de Murs, nous emprunterons ensuite le Gr des
 Monts du Vaucluse. Nous prendrons, ensuite, la direction du hameau
 des Beylons, puis le col de Murs. De la, nous irons jusqu'au Jas de
 Laurent. Nous quitterons le Gr pour prendre par la droite une sente
 balisee en bleu. Nous rejoindrons ainsi les grottes cachees de
 Berigoule, lieu ou se sont caches dans les annee 1540 les Vaudois,
 peuple victime des persecutions de l'epoque. Nous rejoindrons le
 village de Murs en empruntant des chemins bordes de murs de
 soutenement. Nous prendrons aussi un morceau du sentier du Mur de la
 Peste. Pour avoir une idee en images de la randonnee <a
 href="https://photos.google.com/share/AF1QipPAAROx9E6qGdQIAt_lAW_9XDfjvohR-7sejGo4gCkEPiprcqaocQmS2evxieMIsQ?key=QVhyc1hXeUoxOTZwQW5PR3Z0b0tZeXV2SHp4clV3"
 target="_blank" rel="noreferrer noopener"><strong><em>CLIQUEZ
 ICI</em></strong></a></p>
 
 <p><u><strong>Caracteristiques techniques
 :</strong></u></p>
 
 <p>Niveau : P2T1</p>
 
 <p>Distance : 17,5
 km</p>
 
 <p>Denivele : 650 m</p>
 
 <p>Duree  :
 6H</p>
 
 <p><u><strong>Lieu de rendez-vous pour le covoiturage et
 heure de depart :</strong></u></p>
 
 <p>Parking des Platanes stade
 Joelle Chevalier 100 les Bastides Bleues</p>
 
 <p><u><strong>Heure de
 depart </strong></u>: 8h15</p>
 
 <p>Itineraire routier suggere : A51 
 sortie 14 Le Puy Ste Reparade St Esteve de Janson Cadenet Lourmain
 Combe de Lourmarin, Col du Pointu Direction Apt-Route de Marseille 
 Au premier rond-point prendre a gauche la voie rapide. Au deuxieme
 rond-point prendre a gauche RN100, la quitter  par la droite et a la
 prochaine intersection, prendre direction Murs. Rouler jusqu'a Murs,
 En arrivant se garer en contrebas du village, le long du mur du Parc
 de la Garenne.</p>
 
 <p><u><strong>Tarif de covoiturage suggere
 </strong></u>: 10€</p>
URL;VALUE=URI:https://www.aeprandoaix.com/evenements/2026/04/26/les-grottes-de-berigoule-p2t1-2429225
END:VEVENT
END:VCALENDAR
