BEGIN:VCALENDAR
VERSION:2.0
PRODID:-//hacksw/handcal//NONSGML v1.0//EN
BEGIN:VEVENT
SUMMARY:La crete des Alpilles par St Remy de Provence P2T1
UID:dadaa308-7dfb-41d5-8e8b-f01af5a77368
DTSTART:20260407T220000Z
DTEND:20260408T220000Z
LOCATION:Localisation   
CATEGORIES:Sportif
STATUS:
DESCRIPTION:<p><u><strong>Animateur </strong></u>: Christine
 Gillo </p>
 
 <p><u><strong>Telephone </strong></u>☎️  : 06 88 23
 91 80 </p>
 
 <p><u><strong>Descriptif de la randonnee
 :</strong></u></p>
 
 <p>Dans le cadre du sejour de nos amis les
 Allemands, je  propose au depart du parking des Antiques a St Remy
 de Provence, de rejoindre la crete des Alpilles. </p>
 
 <p>Pour se
 faire, nos points de passages seront d abord, le Cloitre de St Paul
 Mausolee. De la, nous prendrons le vallon de St Clerg et le sentier
 de decouverte. Puis, direction le sommet du plateau de Caume. Nous
 prendrons la direction du Pas de l Aigle. Viendra le moment de suivre
 le sentier de la crete des Alpilles avec ses ressauts, son relief
 accidente, l usage des mains pourra aider. L essentiel du parcours se
 fera sur du Pr et Gr.</p>
 
 <p>Au col de Vallongue, nous entamerons la
 descente et l incontournable passage dans le defile  de blocs
 rocheux. Nous aurons fini la partie delicate du
 parcours.</p>
 
 <p>Nous finirons la randonnee sur des chemins 
 confortables jusqu'a notre point de
 depart.</p>
 
 <p><u><strong>Caracteristiques
 techniques </strong></u></p>
 
 <p>Niveau : P2T1 </p>
 
 <p>Distance :
 16,5 km</p>
 
 <p>Denivele : 453 m</p>
 
 <p>Duree :
 6h</p>
 
 <p><u><strong>Lieu de rendez-vous et heure de depart pour le
 covoiturage et transport en autocar</strong></u></p>
 
 <p>Parking du
 Val de l Arc, rue des infirmeries - Arret de bus numero
 8.</p>
 
 <p><strong><span style="color:#3498db;">Privilegier le bus a
 disposition de nos amis Allemands, il y aura des places
 disponibles.</span></strong></p>
 
 <p><span
 style="color:#3498db;"><u><strong>Tarif de covoiturage ou transport
 en bus</strong></u> :
 <strong>13€</strong></span></p>
 
 <p><u><strong>Heure de
 depart </strong></u> : 9h15</p>
 
 <p> </p>
 
 <p> </p>
URL;VALUE=URI:https://www.aeprandoaix.com/evenements/2026/04/08/la-crete-des-alpilles-par-st-remy-de-provence-p2t1-2434483
END:VEVENT
END:VCALENDAR
